BEGIN:VCALENDAR
VERSION:2.0
PRODID:-//Bosegrafía - ECPv6.15.20//NONSGML v1.0//EN
CALSCALE:GREGORIAN
METHOD:PUBLISH
X-ORIGINAL-URL:https://bosegrafia.com
X-WR-CALDESC:Eventos para Bosegrafía
REFRESH-INTERVAL;VALUE=DURATION:PT1H
X-Robots-Tag:noindex
X-PUBLISHED-TTL:PT1H
BEGIN:VTIMEZONE
TZID:UTC
BEGIN:STANDARD
TZOFFSETFROM:+0000
TZOFFSETTO:+0000
TZNAME:UTC
DTSTART:20230101T000000
END:STANDARD
END:VTIMEZONE
BEGIN:VEVENT
DTSTART;TZID=UTC:20241228T230000
DTEND;TZID=UTC:20241229T020000
DTSTAMP:20260422T181306
CREATED:20241015T131341Z
LAST-MODIFIED:20241015T131341Z
UID:609-1735426800-1735437600@bosegrafia.com
SUMMARY:URBANITE
DESCRIPTION:
URL:https://bosegrafia.com/event/urbanite-2
LOCATION:URBANITE\, Forjadores 5\, Arroyomolinos\, Madrid\, 28939\, España
ATTACH;FMTTYPE=image/jpeg:https://bosegrafia.com/wp-content/uploads/2024/10/Black-White-Music-Concert-Poster.jpg.jpg
END:VEVENT
END:VCALENDAR